BEGIN:VCALENDAR
VERSION:2.0
PRODID:-//Vermont Odyssey of the Mind - ECPv4.6.21//NONSGML v1.0//EN
CALSCALE:GREGORIAN
METHOD:PUBLISH
X-WR-CALNAME:Vermont Odyssey of the Mind
X-ORIGINAL-URL:http://vt.odysseyofthemind.org/wp
X-WR-CALDESC:Events for Vermont Odyssey of the Mind
BEGIN:VEVENT
DTSTART;TZID=America/New_York:20191002T183000
DTEND;TZID=America/New_York:20191002T193000
DTSTAMP:20260426T000700
CREATED:20190902T204417Z
LAST-MODIFIED:20190929T165040Z
UID:2002-1570041000-1570044600@vt.odysseyofthemind.org
SUMMARY:Information Night--Milton
DESCRIPTION:Try a couple of Spontaneous Problems and hear about Odyssey of the Mind. \nThe event is free\, but we do want to know if you’ll be there so we can have adequate supplies on hand for the Spontaneous Problems. Please email the organizer with your name and the number of people attending. \n
URL:http://vt.odysseyofthemind.org/wp/event/information-night/
LOCATION:42 Herrick Ave.\, Milton\, VT\, United States
ORGANIZER;CN="Stephanie%20Fournier":MAILTO:vtootm@accessvt.com
END:VEVENT
END:VCALENDAR